BEGIN:VCALENDAR
VERSION:2.0
PRODID:-//hacksw/handcal//NONSGML v1.0//EN
BEGIN:VEVENT
DTSTART:20260312T180000Z
DTEND:20260312T220000Z
LOCATION:Shake n' Smash \n87, Rue de Turbigo \n75003 PARIS
ORGANIZER;CN=Manon Verjat - ESSEC Women Alumni:MAILTO:manon.verjat@essec.edu
SUMMARY:Afterwork EWA Boost’ – ALL STARS
DESCRIPTION:Le 12 mars, préparez-vous à vivre le moment le plus étincelant de l’année !  Nous vous invitons à participer à une édition exceptionnelle de notre afterwork interpromos : l’édition « ALL STARS ».\nCet...
URL:https://www.essecalumni.com/en/group/essec-women-alumni/59/calendar/afterwork-ewa-boost-all-stars/2026/03/12/8241
BEGIN:VALARM
TRIGGER:-P0DT1H0M0S
ACTION:DISPLAY
END:VALARM
END:VEVENT
END:VCALENDAR