BEGIN:VCALENDAR
VERSION:2.0
PRODID:-//hacksw/handcal//NONSGML v1.0//EN
BEGIN:VEVENT
DTSTART:20260326T180000Z
DTEND:20260326T210000Z
LOCATION:Cercle européen de Strasbourg \n1, Rue Massenet \n67000 STRASBOURG
ORGANIZER;CN=Céline Lévêque - Alsace:MAILTO:celine.leveque@essec.edu
SUMMARY:Quand l’IA réinvente le management et la création de valeur
DESCRIPTION:Le Club ESSEC Alumni Alsace avec les participations des Clubs d'HEC Alumni, ESCP Europe et Sciences Po.Paris, a le plaisir de vous convier à  une conférence exceptionnelle consacrée à l’intelligence...
URL:https://www.essecalumni.com/en/group/alsace/68/calendar/quand-l-ia-reinvente-le-management-et-la-creation-de-valeur/2026/03/26/8267
BEGIN:VALARM
TRIGGER:-P0DT1H0M0S
ACTION:DISPLAY
END:VALARM
END:VEVENT
END:VCALENDAR