BEGIN:VCALENDAR
VERSION:2.0
PRODID:-//hacksw/handcal//NONSGML v1.0//EN
BEGIN:VEVENT
DTSTART:20260302T103000Z
DTEND:20260302T130000Z
LOCATION:The Hungry Tapir \n3, Jalan Telawi \n59100 KUALA LUMPUR
ORGANIZER;CN=Florence Zheng - Malaysia / Malaisie:MAILTO:florence.zheng@essec.edu
SUMMARY:ESSEC Iftar Ensemble in Kuala Lumpur
DESCRIPTION:\nDear alumni, you are kindly invited to the ESSEC IFTAR ENSEMBLE, 📅Monday 2nd March 2026🕰️6.30pm-9.00pm📍THE HUNGRY TAPIR, Jln Telawi 3, Bangsar 59100 Kuala Lumpur, Malaysia👉Register HEREKindly be on ...
URL:https://www.essecalumni.com/en/group/malaysia-malaisie/134/calendar/essec-iftar-ensemble-in-kuala-lumpur/2026/03/02/8315
BEGIN:VALARM
TRIGGER:-P0DT1H0M0S
ACTION:DISPLAY
END:VALARM
END:VEVENT
END:VCALENDAR