BEGIN:VCALENDAR
VERSION:2.0
PRODID:-//hacksw/handcal//NONSGML v1.0//EN
BEGIN:VEVENT
DTSTART:20260610T170000Z
DTEND:20260610T183000Z
LOCATION:Ecole de l'Art Oratoire \n4 bis, Rue Lord Byron \n75008 PARIS
ORGANIZER;CN=ESSEC Alumni:MAILTO:alumni-contact@essec.edu
SUMMARY:Masterclass d'art oratoire en présentiel : Devenez l'orateur que vous avez toujours rêvé d'être
DESCRIPTION:Devenez l'orateur que vous avez toujours rêvé d'êtreMasterclass en présentiel en partenariat avec l'Ecole de l'art oratoire La maîtrise de la parole est bien plus qu'une compétence technique, c'est un...
URL:https://www.essecalumni.com/en/event/masterclass-d-art-oratoire-en-presentiel-devenez-l-orateur-que-vous-avez-toujours-reve-d-etre/2026/06/10/8327
BEGIN:VALARM
TRIGGER:-P0DT1H0M0S
ACTION:DISPLAY
END:VALARM
END:VEVENT
END:VCALENDAR