BEGIN:VCALENDAR
VERSION:2.0
PRODID:-//hacksw/handcal//NONSGML v1.0//EN
BEGIN:VEVENT
DTSTART:20260427T163000Z
DTEND:20260427T173000Z
LOCATION:
ORGANIZER;CN=ESSEC Alumni:MAILTO:alumni-contact@essec.edu
SUMMARY:Webinaire : OSER au féminin : Un premier pas peut tout changer
DESCRIPTION: OSER au féminin : Un premier pas peut tout changer « Si tu veux quelque chose que tu n’as jamais eu, tu dois faire quelque chose que tu n’as jamais fait. » — Thomas Jefferson. Et ce quelque chose,...
URL:https://www.essecalumni.com/en/event/webinaire-oser-au-feminin-un-premier-pas-peut-tout-changer/2026/04/27/8342
BEGIN:VALARM
TRIGGER:-P0DT1H0M0S
ACTION:DISPLAY
END:VALARM
END:VEVENT
END:VCALENDAR