BEGIN:VCALENDAR
VERSION:2.0
PRODID:-//hacksw/handcal//NONSGML v1.0//EN
BEGIN:VEVENT
DTSTART:20260407T163000Z
DTEND:20260407T190000Z
LOCATION:Hôtel de l’Industrie, Salle Chaptal \n4, Place Saint-Germain des Prés \n75006 PARIS
ORGANIZER;CN=Jeanne Métraud - ESSEC Women Alumni:MAILTO:b00808121@essec.edu
SUMMARY:Women Speed Networking
DESCRIPTION:Women Speed Networking SciencesPo Femme & Société, HEC au Féminin, ESSEC Women Alumni, CentraleSupelec au Féminin, Emlyon au féminin (Paris) Sur le thème : Les parcours atypiques\nESSEC Women...
URL:https://www.essecalumni.com/en/group/essec-women-alumni/59/calendar/women-speed-networking/2026/04/07/8403
BEGIN:VALARM
TRIGGER:-P0DT1H0M0S
ACTION:DISPLAY
END:VALARM
END:VEVENT
END:VCALENDAR