BEGIN:VCALENDAR
VERSION:2.0
PRODID:-//hacksw/handcal//NONSGML v1.0//EN
BEGIN:VEVENT
DTSTART:20260429T153000Z
DTEND:20260429T193000Z
LOCATION:Entreprise Seaber \n29, Cours de Chazelles \n56100 LORIENT
ORGANIZER;CN=Mathilde Failler - Bretagne:MAILTO:mathilde.failler@essec.edu
SUMMARY:[COMPLET] Visite privée de l’entreprise Seaber
DESCRIPTION:Chers membres du réseau ESSEC,Le Club ESSEC Alumni Bretagne – Finistère a le plaisir de vous convier à la visite privée de l’entreprise Seaber, à Lorient, le mercredi 29 avril 2026 à 17h30...
URL:https://www.essecalumni.com/en/group/bretagne/71/calendar/-complet-visite-privee-de-l-entreprise-seaber/2026/04/29/8423
BEGIN:VALARM
TRIGGER:-P0DT1H0M0S
ACTION:DISPLAY
END:VALARM
END:VEVENT
END:VCALENDAR