BEGIN:VCALENDAR
VERSION:2.0
PRODID:-//hacksw/handcal//NONSGML v1.0//EN
BEGIN:VEVENT
DTSTART:20260521T163000Z
DTEND:20260521T203000Z
LOCATION:Luigia Pizzeria Confédération \n6, Rue de la Confédération \n1204 GENEVE
ORGANIZER;CN=Florence Zheng - Switzerland / Suisse:MAILTO:florence.zheng@essec.edu
SUMMARY:Soirée immersive gastronomie italienne & entrepreneuriat | Genève
DESCRIPTION:L’équipe Plaisirs et Découvertes a le plaisir de vous convier, le jeudi 21 mai, à une soirée d’immersion raffinée dans l’art de vivre et la gastronomie italienne, articulée autour d’ateliers «...
URL:https://www.essecalumni.com/en/group/switzerland-suisse/147/calendar/soiree-immersive-gastronomie-italienne-entrepreneuriat-geneve/2026/05/21/8442
BEGIN:VALARM
TRIGGER:-P0DT1H0M0S
ACTION:DISPLAY
END:VALARM
END:VEVENT
END:VCALENDAR