BEGIN:VCALENDAR
VERSION:2.0
PRODID:-//hacksw/handcal//NONSGML v1.0//EN
BEGIN:VEVENT
DTSTART:20260526T170000Z
DTEND:20260526T200000Z
LOCATION:Maison des ESSEC \n11, Avenue de Friedland \n75008 PARIS
ORGANIZER;CN=ESSEC Alumni:MAILTO:alumni-contact@essec.edu
SUMMARY:"Carrières sous algorithmes... le futur du travail sera-t-il équitable ?" - Table ronde Carrière Lifelong Learning
DESCRIPTION:L'équipe Carrière Lifelong Learning a le plaisir de vous convier à une table ronde Carrières sous algorithmes : le futur du travail sera-t-il équitable ?Mardi 26 mai 202619h (accueil dès 18h30) À la...
URL:https://www.essecalumni.com/en/event/-carrieres-sous-algorithmes-le-futur-du-travail-sera-t-il-equitable-table-ronde-carriere-lifelong-learning/2026/05/26/8474
BEGIN:VALARM
TRIGGER:-P0DT1H0M0S
ACTION:DISPLAY
END:VALARM
END:VEVENT
END:VCALENDAR