BEGIN:VCALENDAR
VERSION:2.0
PRODID:-//hacksw/handcal//NONSGML v1.0//EN
BEGIN:VEVENT
DTSTART:20260504T080000Z
DTEND:20260504T100000Z
LOCATION:GENNEVILLIERS \n4, Avenue des Louvresses \n92230 GENNEVILLIERS
ORGANIZER;CN=Victoria Sasson - Industrie:MAILTO:victoria.sasson@essec.edu
SUMMARY:Visit of the Thales SIX CTS
DESCRIPTION:Dear members,The ESSEC Alumni Industry Club is pleased to invite you to an exclusive visit of the Thales SIX CTS facilities in Gennevilliers, a key player in defence and security technologies, on...
URL:https://www.essecalumni.com/en/group/industrie/394/calendar/visit-of-the-thales-six-cts/2026/05/04/8502
BEGIN:VALARM
TRIGGER:-P0DT1H0M0S
ACTION:DISPLAY
END:VALARM
END:VEVENT
END:VCALENDAR