BEGIN:VCALENDAR
VERSION:2.0
PRODID:-//hacksw/handcal//NONSGML v1.0//EN
BEGIN:VEVENT
DTSTART:20260429T140000Z
DTEND:20260429T160000Z
LOCATION:citizenM Hotel \n12, H. C. Andersens Boulevard \n1550 KOBENHAVN
ORGANIZER;CN=Florence Zheng - Denmark / Danemark:MAILTO:florence.zheng@essec.edu
SUMMARY:ESSEC Alumni & Polytechnique Alumni Afterwork
DESCRIPTION:Dear alumni,We are happy to invite you to our next gathering in Copenhagen for an informal afterwork meetup. This is a wonderful opportunity to reconnect, meet fellow alumni, and expand your network...
URL:https://www.essecalumni.com/en/group/denmark-danemark/149/calendar/essec-alumni-polytechnique-alumni-afterwork/2026/04/29/8505
BEGIN:VALARM
TRIGGER:-P0DT1H0M0S
ACTION:DISPLAY
END:VALARM
END:VEVENT
END:VCALENDAR