BEGIN:VCALENDAR
VERSION:2.0
PRODID:-//hacksw/handcal//NONSGML v1.0//EN
BEGIN:VEVENT
DTSTART:20260519T170000Z
DTEND:20260519T200000Z
LOCATION:Hotel Pilgrim Rooftop \n11, Rue de Poissy \n75005 PARIS
ORGANIZER;CN=Monika MOSER - MSc in Hospitality Management (IMHI):MAILTO:monikamoser@me.com
SUMMARY:IMHI May Paris Get Together
DESCRIPTION:Join us : IMHI Get Together!Spring in Paris, a rooftop, and the IMHI community… that’s usually a combination that works quite well.We’re happy to invite you to our next IMHI get together on Tuesday,...
URL:https://www.essecalumni.com/en/group/msc-in-hospitality-management-imhi/263/calendar/imhi-may-paris-get-together/2026/05/19/8507
BEGIN:VALARM
TRIGGER:-P0DT1H0M0S
ACTION:DISPLAY
END:VALARM
END:VEVENT
END:VCALENDAR