BEGIN:VCALENDAR
VERSION:2.0
PRODID:-//hacksw/handcal//NONSGML v1.0//EN
BEGIN:VEVENT
DTSTART:20260423T010000Z
DTEND:20260423T030000Z
LOCATION:Pullman Thamrin Jakarta \nNo.59, Jalan M.H. Thamrin \n10350 Jakarta
ORGANIZER;CN=Florence Zheng - Indonesia / Indonésie:MAILTO:florence.zheng@essec.edu
SUMMARY:ESSEC EMBA - IFCCI BREAKFAST TALK: Adaptive Leadership in the Age of AI
DESCRIPTION:\nDear alumni,We are delighted to invite you to an exclusive breakfast talk hosted by the IFCCI in collaboration with the ESSEC & Mannheim EMBA APAC. In an era where AI is reshaping the professional...
URL:https://www.essecalumni.com/en/group/indonesia-indonesie/140/calendar/essec-emba-ifcci-breakfast-talk-adaptive-leadership-in-the-age-of-ai/2026/04/23/8508
BEGIN:VALARM
TRIGGER:-P0DT1H0M0S
ACTION:DISPLAY
END:VALARM
END:VEVENT
END:VCALENDAR