BEGIN:VCALENDAR
VERSION:2.0
PRODID:-//hacksw/handcal//NONSGML v1.0//EN
BEGIN:VEVENT
DTSTART:20260511T160000Z
DTEND:20260511T190000Z
LOCATION:Maison des ESSEC  \n11, Avenue de Friedland \n75008 PARIS
ORGANIZER;CN=Anita Maksymchuk - Africa in France:MAILTO:anita.maksymchuk@essec.edu
SUMMARY:Rooted in Africa: African Startups with Global Outreach (Panel Discussion with Stellenbosch University)
DESCRIPTION:Book now to join an engaging Alumni Thought Leadership event hosted by the Stellenbosch Business School Alumni Association in collaboration with ESSEC Business School and ESSEC Alumni Africa in...
URL:https://www.essecalumni.com/en/group/africa-in-france/329/calendar/rooted-in-africa-african-startups-with-global-outreach-panel-discussion-with-stellenbosch-university/2026/05/11/8520
BEGIN:VALARM
TRIGGER:-P0DT1H0M0S
ACTION:DISPLAY
END:VALARM
END:VEVENT
END:VCALENDAR