BEGIN:VCALENDAR
VERSION:2.0
PRODID:-//hacksw/handcal//NONSGML v1.0//EN
BEGIN:VEVENT
DTSTART:20180125T180000
DTEND:20180125T210000
LOCATION:
ORGANIZER;CN=ESSEC Alumni - Provence:MAILTO:alumni-contact@essec.edu
SUMMARY:Rencontre avec Charles Bouaziz, Stéphanie Jossermoz et Régis Béraud d'ESSEC Alumni
DESCRIPTION:Réservez votre soirée pour rencontrer Charles Bouaziz (E85), Président ESSEC Alumni, Stéphanie Jossermoz (E94) Directrice Générale ESSEC Alumni et Régis Béraud (E81), Coordinateur des...
URL:https://www.essecalumni.com/fr/group/provence/73/calendar/rencontre-avec-charles-bouaziz-stephanie-jossermoz-et-regis-beraud-d-essec-alumni/2018/01/25/1460
BEGIN:VALARM
TRIGGER:-P0DT1H0M0S
ACTION:DISPLAY
END:VALARM
END:VEVENT
END:VCALENDAR