BEGIN:VCALENDAR
VERSION:2.0
PRODID:-//hacksw/handcal//NONSGML v1.0//EN
BEGIN:VEVENT
DTSTART:20180115T183000
DTEND:20180115T213000
LOCATION:
ORGANIZER;CN=ESSEC Alumni - Languedoc-Roussillon:MAILTO:alumni-contact@essec.edu
SUMMARY:Les centres commerciaux ont tué le centre-ville !
DESCRIPTION:ESSEC Languedoc-Roussillon a le plaisir de vous convier à sa prochaine conférence sur le thème :Les centres commerciaux ont tué le centre-ville !Lundi 15 janvier à 19h30 \nau Halt Hotel \n17 chemin de...
URL:https://www.essecalumni.com/fr/group/languedoc-roussillon/82/calendar/les-centres-commerciaux-ont-tue-le-centre-ville/2018/01/15/1497
BEGIN:VALARM
TRIGGER:-P0DT1H0M0S
ACTION:DISPLAY
END:VALARM
END:VEVENT
END:VCALENDAR