BEGIN:VCALENDAR
VERSION:2.0
PRODID:-//hacksw/handcal//NONSGML v1.0//EN
BEGIN:VEVENT
DTSTART:20180124T183000
DTEND:20180124T213000
LOCATION:
ORGANIZER;CN=ESSEC Alumni - Alsace:MAILTO:alumni-contact@essec.edu
SUMMARY:Stammtisch mensuel Rhin Supérieur
DESCRIPTION:Le Club ESSEC Rhin Supérieur se retrouvera pour son "stammtisch" mensuel à Strasbourg.\nAttention ! Changement de lieu, puisqu’il se tiendra :Mercredi 24 janvier 2018 à 19h30\nau TIRE BOUCHON\n5 rue...
URL:https://www.essecalumni.com/fr/group/alsace/68/calendar/stammtisch-mensuel-rhin-superieur/2018/01/24/1504
BEGIN:VALARM
TRIGGER:-P0DT1H0M0S
ACTION:DISPLAY
END:VALARM
END:VEVENT
END:VCALENDAR