BEGIN:VCALENDAR
VERSION:2.0
PRODID:-//hacksw/handcal//NONSGML v1.0//EN
BEGIN:VEVENT
DTSTART:20180412T170000
DTEND:20180412T200000
LOCATION:
ORGANIZER;CN=ESSEC Alumni - Provence:MAILTO:alumni-contact@essec.edu
SUMMARY:Afterwork ESSEC Provence
DESCRIPTION:ESSEC Provence a le plaisir de vous convier le jeudi 12 avril prochain pour son Afterwork ESSEC Alumni Provence, sur Aix-en-Provence !\nAprès le tour de table, nous échangerons sur une thématique...
URL:https://www.essecalumni.com/fr/group/provence/73/calendar/afterwork-essec-provence/2018/04/12/1583
BEGIN:VALARM
TRIGGER:-P0DT1H0M0S
ACTION:DISPLAY
END:VALARM
END:VEVENT
END:VCALENDAR