BEGIN:VCALENDAR
VERSION:2.0
PRODID:-//hacksw/handcal//NONSGML v1.0//EN
BEGIN:VEVENT
DTSTART:20191104T193000
DTEND:20191104T193500
LOCATION:Restaurant ICEO \n147 Avenue Jean Jaurès \n69007 Lyon
ORGANIZER;CN=ESSEC Alumni - Auvergne Rhône-Alpes:MAILTO:alumni-contact@essec.edu
SUMMARY:Croître et se transformer concrètement grâce au digital : De réelles opportunités pour les PME et les ETI
DESCRIPTION:Le Club ESSEC Rhône-Alpes vous invite à une intervention sur le thème :Croître et se transformer concrètement grâce au digital : De réelles opportunités pour les PME et les ETILundi 4 novembre, à...
URL:https://www.essecalumni.com/fr/group/auvergne-rhone-alpes/91/calendar/croitre-et-se-transformer-concretement-grace-au-digital-de-reelles-opportunites-pour-les-pme-et-les-eti/2019/11/04/2092
BEGIN:VALARM
TRIGGER:-P0DT1H0M0S
ACTION:DISPLAY
END:VALARM
END:VEVENT
END:VCALENDAR