BEGIN:VCALENDAR
VERSION:2.0
PRODID:-//hacksw/handcal//NONSGML v1.0//EN
BEGIN:VEVENT
DTSTART:20191129T193000
DTEND:20191129T220000
LOCATION:Tokyo \n6 Chome-3-5 Ginza, Chūō-ku ,  Tokyo \n104-00061 Tokyo
ORGANIZER;CN=Laurent WOLFF - Japan / Japon:MAILTO:wolff.lrt@free.fr
SUMMARY:Soirée Essec Alumni Japan au Breizh Cafe, Tokyo
DESCRIPTION:Dear all,In order to have a friendly and networking evening, we booked the Breizh Cafe in Ginza from 19:30 to 22:00 on Friday, November 29.Advanced registration is required,  fee of 4200 JPY per...
URL:https://www.essecalumni.com/fr/group/japan-japon/139/calendar/soiree-essec-alumni-japan-au-breizh-cafe-tokyo/2019/11/29/2107
BEGIN:VALARM
TRIGGER:-P0DT1H0M0S
ACTION:DISPLAY
END:VALARM
END:VEVENT
END:VCALENDAR