BEGIN:VCALENDAR
VERSION:2.0
PRODID:-//hacksw/handcal//NONSGML v1.0//EN
BEGIN:VEVENT
DTSTART:20200220T073000
DTEND:20200220T083000
LOCATION:Dubai- Radisson Blu Deira
ORGANIZER;CN=Gurwan LE GAC - the United Arab Emirates / Emirats Arabes Unis:MAILTO:gurwan_legac@hotmail.com
SUMMARY:20th February Business Breakfast: "New tech, Fintech and Investors"
DESCRIPTION:Dear Alumni,Wish you again an amazing year 2020 and looking forward to meeting you at our events this year!Let's start with a new concept which shall take place once every 3 months, our "Business...
URL:https://www.essecalumni.com/fr/group/the-united-arab-emirates-emirats-arabes-unis/112/calendar/20th-february-business-breakfast-new-tech-fintech-and-investors/2020/02/20/2173
BEGIN:VALARM
TRIGGER:-P0DT1H0M0S
ACTION:DISPLAY
END:VALARM
END:VEVENT
END:VCALENDAR