BEGIN:VCALENDAR
VERSION:2.0
PRODID:-//hacksw/handcal//NONSGML v1.0//EN
BEGIN:VEVENT
DTSTART:20200224T183000
DTEND:20200224T210000
LOCATION:Hôtel des Ingénieurs Arts & Métiers \n9bis, Avenue d'Iéna \n75116 PARIS
ORGANIZER;CN=Victor MARTIN - Automobile & Mobilité:MAILTO:victor.martin@sciencespo.fr
SUMMARY:De l'obsidienne au pare-brise à affichage tête haute : histoire du verre automobile
DESCRIPTION:\nLe Club ESSEC Automobile, en alliance avec le Groupe Professionnel Automobile des Arts & Métiers, a le plaisir de vous convier à sa prochaine conférence :De l'obsidienne au pare-brise à affichage...
URL:https://www.essecalumni.com/fr/group/automobile-mobilite/48/calendar/de-l-obsidienne-au-pare-brise-a-affichage-tete-haute-histoire-du-verre-automobile/2020/02/24/2205
BEGIN:VALARM
TRIGGER:-P0DT1H0M0S
ACTION:DISPLAY
END:VALARM
END:VEVENT
END:VCALENDAR