BEGIN:VCALENDAR
VERSION:2.0
PRODID:-//hacksw/handcal//NONSGML v1.0//EN
BEGIN:VEVENT
DTSTART:20200227T193000
DTEND:20200227T233500
LOCATION:Cornichon masqué \n17, Place du Marché Gayot \n67000 STRASBOURG
ORGANIZER;CN=ESSEC Alumni - Alsace:MAILTO:alumni-contact@essec.edu
SUMMARY:Stammtisch mensuel
DESCRIPTION:Cher(e)s Alumni ESSEC, Le Club ESSEC Rhin Supérieur a le plaisir de vous convier pour son premier "Stammtisch" mensuel de l’année.Le jeudi 27 février 2020 à 19h30Au Cornichon masqué17 place du Marché ...
URL:https://www.essecalumni.com/fr/group/alsace/68/calendar/stammtisch-mensuel/2020/02/27/2221
BEGIN:VALARM
TRIGGER:-P0DT1H0M0S
ACTION:DISPLAY
END:VALARM
END:VEVENT
END:VCALENDAR