BEGIN:VCALENDAR
VERSION:2.0
PRODID:-//hacksw/handcal//NONSGML v1.0//EN
BEGIN:VEVENT
DTSTART:20200521T190000
DTEND:20200521T203000
LOCATION:Online
ORGANIZER;CN=Anna DAVIAU - Spain /Espagne - Barcelona / Barcelone:MAILTO:anna.daviau@gmail.com
SUMMARY:Comment vous êtes vous adaptés à la crise du COVID-19 et comment préparez-vous la reprise ? Quelles perspectives pour la suite ?  Partageons nos idées et bonnes pratiques !
DESCRIPTION:Workshop online pour partager les bonnes pratiques mises en place ses dernières semaines ainsi que les solutions envisagées pour la reprise, d'un point de vue personnel et...
URL:https://www.essecalumni.com/fr/group/spain-espagne-barcelona-barcelone/337/calendar/comment-vous-etes-vous-adaptes-a-la-crise-du-covid-19-et-comment-preparez-vous-la-reprise-quelles-perspectives-pour-la-suite-partageons-nos-idees-et-bonnes-pratiques/2020/05/21/2339
BEGIN:VALARM
TRIGGER:-P0DT1H0M0S
ACTION:DISPLAY
END:VALARM
END:VEVENT
END:VCALENDAR