BEGIN:VCALENDAR
VERSION:2.0
PRODID:-//hacksw/handcal//NONSGML v1.0//EN
BEGIN:VEVENT
DTSTART:20200715T123000
DTEND:20200715T133000
LOCATION:
ORGANIZER;CN=Christophe GONET - Singapore / Singapour:MAILTO:christophe.gonet@gmail.com
SUMMARY:LunchTalk #5 on Wednesday July 15th from 12.30pm to 1.30pm  with S.E. Marc Abensour, French Ambassador in Singapore
DESCRIPTION:Dear ESSEC Alumni,We hope you are all doing very well.\nThank you for participating in the first French Alumni Leaders Talks which were great successes and again a big thank you to our esteemed...
URL:https://www.essecalumni.com/fr/group/singapore-singapour/131/calendar/lunchtalk-5-on-wednesday-july-15th-from-12-30pm-to-1-30pm-with-s-e-marc-abensour-french-ambassador-in-singapore/2020/07/15/2437
BEGIN:VALARM
TRIGGER:-P0DT1H0M0S
ACTION:DISPLAY
END:VALARM
END:VEVENT
END:VCALENDAR