BEGIN:VCALENDAR
VERSION:2.0
PRODID:-//hacksw/handcal//NONSGML v1.0//EN
BEGIN:VEVENT
DTSTART:20220517T163000Z
DTEND:20220517T180000Z
LOCATION:
ORGANIZER;CN=Manon Verjat - ESSEC Transition Alumni:MAILTO:manon.verjat@essec.edu
SUMMARY:Effet Rebond : comment éviter l’emballement des impacts du numérique ?
DESCRIPTION:Chers Alumni, \nLes Clubs ESSEC Transition Alumni et ESSEC Digital sont heureux de vous convier à leur prochain événement co-organisé avec Telecom Paris, sur le thème : \n"Qu’est-ce que l’effet rebond...
URL:https://www.essecalumni.com/fr/group/essec-transition-alumni/56/calendar/effet-rebond-comment-eviter-l-emballement-des-impacts-du-numerique/2022/05/17/3908
BEGIN:VALARM
TRIGGER:-P0DT1H0M0S
ACTION:DISPLAY
END:VALARM
END:VEVENT
END:VCALENDAR