BEGIN:VCALENDAR
VERSION:2.0
PRODID:-//hacksw/handcal//NONSGML v1.0//EN
BEGIN:VEVENT
DTSTART:20220607T170000Z
DTEND:20220607T193000Z
LOCATION:Châteauform’ City Les Jardins de Saint Dominique \n49, Rue Saint-Dominique \n75007 PARIS
ORGANIZER;CN=Manon Verjat - Entrepreneurs:MAILTO:manon.verjat@essec.edu
SUMMARY:Rencontre en présentiel avec Damien Guermonprez (E89), Président de Lemonway !
DESCRIPTION:Evénement réservé aux entrepreneurs ESSEC et aux incubés ESSEC Ventures\nChers Alumni, \nLe Club ESSEC Alumni Entrepreneurs a l'honneur d'accueillir M. Damien Guermonprez (E89) - Star de la Fintech - ...
URL:https://www.essecalumni.com/fr/group/entrepreneurs/62/calendar/rencontre-en-presentiel-avec-damien-guermonprez-e89-president-de-lemonway/2022/06/07/3965
BEGIN:VALARM
TRIGGER:-P0DT1H0M0S
ACTION:DISPLAY
END:VALARM
END:VEVENT
END:VCALENDAR