BEGIN:VCALENDAR
VERSION:2.0
PRODID:-//hacksw/handcal//NONSGML v1.0//EN
BEGIN:VEVENT
DTSTART:20231116T020000Z
DTEND:20231116T040000Z
LOCATION:10250 Constellation Boulevard \n10250, Constellation Boulevard \n90067 LOS ANGELES
ORGANIZER;CN=Anita Maksymchuk - The USA / Etats-Unis d'Amérique - Los Angeles:MAILTO:anita.maksymchuk@essec.edu
SUMMARY:Meet the New Los Angeles Chapter Team!
DESCRIPTION:Dear ESSEC Alumni in Los Angeles,\nWe are thrilled to announce the "Renaissance" of the ESSEC LA Chapter after a hiatus! \nPlease join us on November 15th as we kick off the revival of the LA chapter ...
URL:https://www.essecalumni.com/fr/group/the-usa-etats-unis-d-amerique-los-angeles/190/calendar/meet-the-new-los-angeles-chapter-team/2023/11/16/5486
BEGIN:VALARM
TRIGGER:-P0DT1H0M0S
ACTION:DISPLAY
END:VALARM
END:VEVENT
END:VCALENDAR