BEGIN:VCALENDAR
VERSION:2.0
PRODID:-//hacksw/handcal//NONSGML v1.0//EN
BEGIN:VEVENT
DTSTART:20231207T060000Z
DTEND:20231207T080000Z
LOCATION:Riverland bar \nFederation Wharf Vaults 1-9 \nVIC 3000 Melbourne
ORGANIZER;CN=Christophe BRULLIARD - Australia / Australie - New Zealand / Nouvelle Zélande:MAILTO:
SUMMARY:Casual get-together in Melbourne ☀️
DESCRIPTION:Dear alumni, \nWe are planning to reactivate the ESSEC Melbourne alumni informal drinks and connect with new ESSECs who may have moved in since.\nThursday 7 December\nfrom 5 pm\n at the Riverland bar ...
URL:https://www.essecalumni.com/fr/group/australia-australie-new-zealand-nouvelle-zelande/138/calendar/casual-get-together-in-melbourne/2023/12/07/5580
BEGIN:VALARM
TRIGGER:-P0DT1H0M0S
ACTION:DISPLAY
END:VALARM
END:VEVENT
END:VCALENDAR