BEGIN:VCALENDAR
VERSION:2.0
PRODID:-//hacksw/handcal//NONSGML v1.0//EN
BEGIN:VEVENT
DTSTART:20240228T073000Z
DTEND:20240228T090000Z
LOCATION:Cercle de l’Union Interalliée \n33, Rue du Faubourg Saint-Honoré \n75008 PARIS
ORGANIZER;CN=Alice Crayston - Droit:MAILTO:alice.crayston@essec.edu
SUMMARY:[REPORT] Petit-déjeuner prestigieux sur le financement du secteur de la défense
DESCRIPTION:L'événement est reporté à une date ultérieure. Nous vous tiendrons informé(e) de la nouvelle date retenue pour ce événement très prochainement.  Chers alumni, Le Club ESSEC Alumni Droit, le Club ESSEC...
URL:https://www.essecalumni.com/fr/group/droit/54/calendar/-report-petit-dejeuner-prestigieux-sur-le-financement-du-secteur-de-la-defense/2024/02/28/5733
BEGIN:VALARM
TRIGGER:-P0DT1H0M0S
ACTION:DISPLAY
END:VALARM
END:VEVENT
END:VCALENDAR