BEGIN:VCALENDAR
VERSION:2.0
PRODID:-//hacksw/handcal//NONSGML v1.0//EN
BEGIN:VEVENT
DTSTART:20240206T163000Z
DTEND:20240206T190000Z
LOCATION:Kastellet \n25, Hegdehaugsveien \n0352 OSLO
ORGANIZER;CN=Matthieu Colet - Norway / Norvège:MAILTO:matthieu.colet@essec.edu
SUMMARY:Networking avec HEC Alumni et Sciences Po Alumni et INSEAD Alumni
DESCRIPTION:Chers Alumni de Norvège,La soirée networking initialement prévue le 17 janvier et reportée en raison des intempéries se déroulera le mardi 6 février. Cet événement est co-organisé avec HEC Alumni ,...
URL:https://www.essecalumni.com/fr/group/norway-norvege/151/calendar/networking-avec-hec-alumni-et-sciences-po-alumni-et-insead-alumni/2024/02/06/5741
BEGIN:VALARM
TRIGGER:-P0DT1H0M0S
ACTION:DISPLAY
END:VALARM
END:VEVENT
END:VCALENDAR