BEGIN:VCALENDAR
VERSION:2.0
PRODID:-//hacksw/handcal//NONSGML v1.0//EN
BEGIN:VEVENT
DTSTART:20240626T163000Z
DTEND:20240626T200000Z
LOCATION:Maison des ESSEC \n11, avenue de Friedland \n75008 PARIS
ORGANIZER;CN=Céline Lévêque - Promotion 1982:MAILTO:celine.leveque@essec.edu
SUMMARY:Pot d'été promotion 82 :sun_with_face:
DESCRIPTION:Chers amis,\nLa clémence espérée  du climat fin juin  nous a amenés à choisir à nouveau  la Maison des ESSEC et son jardin pour notre prochain pot semestriel le MERCREDI  26 JUIN. Même  adresse donc :...
URL:https://www.essecalumni.com/fr/group/promotion-1982/223/calendar/pot-d-ete-promotion-82-sun-with-face/2024/06/26/6008
BEGIN:VALARM
TRIGGER:-P0DT1H0M0S
ACTION:DISPLAY
END:VALARM
END:VEVENT
END:VCALENDAR