BEGIN:VCALENDAR
VERSION:2.0
PRODID:-//hacksw/handcal//NONSGML v1.0//EN
BEGIN:VEVENT
DTSTART:20241128T173000Z
DTEND:20241128T203000Z
LOCATION:Maison des ESSEC \n11, Avenue de Friedland \n75008 PARIS
ORGANIZER;CN=Sounya Kiniffo:MAILTO:sounya.kiniffo@essec.edu
SUMMARY:La Fresque de la Diversité, un atelier de sensibilisation interactif et expérientiel :handshake:
DESCRIPTION:Le jeudi 28 Novembre de 18h30 à 21h30\nEn présentiel,  à la Maison des ESSEC, au 11 avenue de Friedland, 75008 Paris - Métro George V La Fresque de la Diversité - qu'est-ce que c'est ? \nLa Fresque de...
URL:https://www.essecalumni.com/fr/event/la-fresque-de-la-diversite-un-atelier-de-sensibilisation-interactif-et-experientiel-handshake/2024/11/28/6156
BEGIN:VALARM
TRIGGER:-P0DT1H0M0S
ACTION:DISPLAY
END:VALARM
END:VEVENT
END:VCALENDAR