BEGIN:VCALENDAR
VERSION:2.0
PRODID:-//hacksw/handcal//NONSGML v1.0//EN
BEGIN:VEVENT
DTSTART:20241107T010000Z
DTEND:20241128T203000Z
LOCATION:Maison des ESSEC  \n11, Avenue de Friedland \n75008 PARIS
ORGANIZER;CN=Sounya Kiniffo:MAILTO:sounya.kiniffo@essec.edu
SUMMARY:FRESQUATHON ESSEC Alumni #3 :seedling:
DESCRIPTION: C'EST QUOI LE FRESQUATHON ?  \nESSEC Alumni vous invite à son troisième “Fresquathon”, un marathon de fresques et autres ateliers de sensibilisation pendant un mois. Cet événement instructif et...
URL:https://www.essecalumni.com/fr/event/fresquathon-essec-alumni-3-seedling/2024/11/07/6172
BEGIN:VALARM
TRIGGER:-P0DT1H0M0S
ACTION:DISPLAY
END:VALARM
END:VEVENT
END:VCALENDAR