BEGIN:VCALENDAR
VERSION:2.0
PRODID:-//hacksw/handcal//NONSGML v1.0//EN
BEGIN:VEVENT
DTSTART:20240524T113000Z
DTEND:20240524T133000Z
LOCATION:Qureshi \n10, Jalan Bukit Kiara 1 \n60000 KUALA LUMPUR
ORGANIZER;CN=Matthieu Colet - Malaysia / Malaisie:MAILTO:matthieu.colet@essec.edu
SUMMARY:Malaysian Chapter Launch & Drinks
DESCRIPTION:Dear Alumni in Malaysia,We are delighted to invite you to celebrate the launch of the ESSEC Alumni Chapter Malaysia! Join us on Friday 24th May, starting at 7:30 PM at the Qureshi in Kuala Lumpur.This...
URL:https://www.essecalumni.com/fr/group/malaysia-malaisie/134/calendar/malaysian-chapter-launch-drinks/2024/05/24/6218
BEGIN:VALARM
TRIGGER:-P0DT1H0M0S
ACTION:DISPLAY
END:VALARM
END:VEVENT
END:VCALENDAR