BEGIN:VCALENDAR
VERSION:2.0
PRODID:-//hacksw/handcal//NONSGML v1.0//EN
BEGIN:VEVENT
DTSTART:20240620T170000Z
DTEND:20240620T193000Z
LOCATION:Maison des ESSEC \n11, Avenue de Friedland \n75008 PARIS
ORGANIZER;CN=Astride MADEVADASSE - India in France:MAILTO:madevadasse@gmail.com
SUMMARY:Venez pratiquer du Yoga et de la Méditation  à la Maison des  ESSEC ! (ANNULE)
DESCRIPTION:\nEn collaboration avec le Club ESSEC India in France, L'association Yoga et Méditation Paris, créée il y a plus de 10 ans par le Yogi Suédois Christian Möllenoff est très heureuse de vous inviter à...
URL:https://www.essecalumni.com/fr/group/india-in-france/371/calendar/venez-pratiquer-du-yoga-et-de-la-meditation-a-la-maison-des-essec-annule/2024/06/20/6282
BEGIN:VALARM
TRIGGER:-P0DT1H0M0S
ACTION:DISPLAY
END:VALARM
END:VEVENT
END:VCALENDAR