BEGIN:VCALENDAR
VERSION:2.0
PRODID:-//hacksw/handcal//NONSGML v1.0//EN
BEGIN:VEVENT
DTSTART:20240708T160000Z
DTEND:20240708T171500Z
LOCATION:
ORGANIZER;CN=Anita Maksymchuk:MAILTO:anita.maksymchuk@essec.edu
SUMMARY:SIRENE n° 84 - INDIA: Following the general election, what economic and strategic perspectives for the country and the region?
DESCRIPTION:INDIA: Following the general election, what economic and strategic perspectives for the country and the region?\nSPEAKERSMrs. Arpita MukherjeeProfessor at The Indian Council for Research on...
URL:https://www.essecalumni.com/fr/event/sirene-n-84-india-following-the-general-election-what-economic-and-strategic-perspectives-for-the-country-and-the-region/2024/07/08/6386
BEGIN:VALARM
TRIGGER:-P0DT1H0M0S
ACTION:DISPLAY
END:VALARM
END:VEVENT
END:VCALENDAR