BEGIN:VCALENDAR
VERSION:2.0
PRODID:-//hacksw/handcal//NONSGML v1.0//EN
BEGIN:VEVENT
DTSTART:20241107T010000Z
DTEND:20241107T040000Z
LOCATION:https://us02web.zoom.us/j/3810697601?omn=83841559183
ORGANIZER;CN=Sounya Kiniffo:MAILTO:sounya.kiniffo@essec.edu
SUMMARY:La Fresque des Nouveaux Récits -  pour créer une société différente, il faut déjà l'imaginer :palette:
DESCRIPTION:Le jeudi 7 novembre (en anglais)\n🕒 Heure : 2am (Paris) / 5pm (Los Angeles) / 8pm (New York) / 10 pm (Rio de Janeiro)\n📍 Lieu : En ligne, via Zoom (le lien de connexion vous sera envoyé après...
URL:https://www.essecalumni.com/fr/event/la-fresque-des-nouveaux-recits-pour-creer-une-societe-differente-il-faut-deja-l-imaginer-palette/2024/11/07/6636
BEGIN:VALARM
TRIGGER:-P0DT1H0M0S
ACTION:DISPLAY
END:VALARM
END:VEVENT
END:VCALENDAR