BEGIN:VCALENDAR
VERSION:2.0
PRODID:-//hacksw/handcal//NONSGML v1.0//EN
BEGIN:VEVENT
DTSTART:20241127T180000Z
DTEND:20241127T210000Z
LOCATION:Maison des ESSEC \n11, Avenue de Friedland \n75008 PARIS
ORGANIZER;CN=Céline Lévêque - Immobilier, Villes et Territoires (Real Estate, Cities and Territories):MAILTO:celine.leveque@essec.edu
SUMMARY:Soirée de passation du Club Immobilier, Villes et Territoires
DESCRIPTION:Le Club ESSEC Alumni Immobilier, Villes et Territoires fait sa rentrée avec un bureau renouvelé !\nVirginie Saks (E09) nous quitte pour lancer le Club « ESSEC Alumni Industrie » et passe le relais à...
URL:https://www.essecalumni.com/fr/group/immobilier-villes-et-territoires-real-estate-cities-and-territories/63/calendar/soiree-de-passation-du-club-immobilier-villes-et-territoires/2024/11/27/6657
BEGIN:VALARM
TRIGGER:-P0DT1H0M0S
ACTION:DISPLAY
END:VALARM
END:VEVENT
END:VCALENDAR