BEGIN:VCALENDAR
VERSION:2.0
PRODID:-//hacksw/handcal//NONSGML v1.0//EN
BEGIN:VEVENT
DTSTART:20241122T003000Z
DTEND:20241122T013000Z
LOCATION:
ORGANIZER;CN=Sounya Kiniffo:MAILTO:sounya.kiniffo@essec.edu
SUMMARY:Atelier 2tonnes : l'atelier immersif pour explorer le futur et agir ensemble pour le climat !
DESCRIPTION:\nLe jeudi 21 novembre (en anglais)\n🕒 Heure :  4.30pm (Los Angeles) / 6.30pm (Mexico city) / 7.30pm (New York)\n📍 Lieu : En ligne, via Zoom (le lien de connexion vous sera envoyé après inscription le...
URL:https://www.essecalumni.com/fr/event/atelier-2tonnes-l-atelier-immersif-pour-explorer-le-futur-et-agir-ensemble-pour-le-climat/2024/11/22/6670
BEGIN:VALARM
TRIGGER:-P0DT1H0M0S
ACTION:DISPLAY
END:VALARM
END:VEVENT
END:VCALENDAR