BEGIN:VCALENDAR
VERSION:2.0
PRODID:-//hacksw/handcal//NONSGML v1.0//EN
BEGIN:VEVENT
DTSTART:20241028T123000Z
DTEND:20241029T203000Z
LOCATION:MEM - Centre des mémoires montréalaises \n1210, Boulevard Saint-Laurent \nH2X 2S5 MONTREAL
ORGANIZER;CN=Anita Maksymchuk - Canada - Whole Country:MAILTO:anita.maksymchuk@essec.edu
SUMMARY:Fresque de la diversité & Cocktail
DESCRIPTION:\nLa Fresque de la Diversité, c'est 3h pour prendre conscience, dialoguer et comprendre les mécanismes et enjeux de la discrimination.C'est un atelier d'intelligence collective qui permet...
URL:https://www.essecalumni.com/fr/group/canada-whole-country/166/calendar/fresque-de-la-diversite-cocktail/2024/10/28/6688
BEGIN:VALARM
TRIGGER:-P0DT1H0M0S
ACTION:DISPLAY
END:VALARM
END:VEVENT
END:VCALENDAR