BEGIN:VCALENDAR
VERSION:2.0
PRODID:-//hacksw/handcal//NONSGML v1.0//EN
BEGIN:VEVENT
DTSTART:20241114T173000Z
DTEND:20241114T200000Z
LOCATION:Maison des ESSEC \n11, Avenue de Friedland \n75008 PARIS
ORGANIZER;CN=Patricia CHARLEC - Africa in France:MAILTO:patricia.charlec@essec.edu
SUMMARY:Quelles alternatives à l’hydroélectricité pour accélérer  la transition énergétique en Afrique subsaharienne ?
DESCRIPTION:En marge du Forum AMBITION AFRICA, le Club ESSEC ALUMNI AFRICA in France invite tous ses Adhérents et Ami(e)s à se réunir autour d'un thème essentiel : Quelles alternatives à l’HYDROÉLECTRICITÉ pour...
URL:https://www.essecalumni.com/fr/group/africa-in-france/329/calendar/quelles-alternatives-a-l-hydroelectricite-pour-accelerer-la-transition-energetique-en-afrique-subsaharienne/2024/11/14/6699
BEGIN:VALARM
TRIGGER:-P0DT1H0M0S
ACTION:DISPLAY
END:VALARM
END:VEVENT
END:VCALENDAR