BEGIN:VCALENDAR
VERSION:2.0
PRODID:-//hacksw/handcal//NONSGML v1.0//EN
BEGIN:VEVENT
DTSTART:20241129T080000Z
DTEND:20241129T100000Z
LOCATION:Maison des ESSEC \n11, Avenue de Friedland \n75008 PARIS
ORGANIZER;CN=Monika MOSER - MSc in Hospitality Management (IMHI):MAILTO:monikamoser@me.com
SUMMARY:[CANCELLED] Exclusive Breakfast with Puneet Chhatwal, CEO of IHCL
DESCRIPTION:Join us for an exclusive and exceptional Interview with Puneet Chhatwal (IMHI 1991), CEO of the Indian Hotels Company Limited\nThe AAIMHI board is thrilled to convey you to an exclusive exchange with ...
URL:https://www.essecalumni.com/fr/group/msc-in-hospitality-management-imhi/263/calendar/-cancelled-exclusive-breakfast-with-puneet-chhatwal-ceo-of-ihcl/2024/11/29/6712
BEGIN:VALARM
TRIGGER:-P0DT1H0M0S
ACTION:DISPLAY
END:VALARM
END:VEVENT
END:VCALENDAR