BEGIN:VCALENDAR
VERSION:2.0
PRODID:-//hacksw/handcal//NONSGML v1.0//EN
BEGIN:VEVENT
DTSTART:20241117T210000Z
DTEND:20241118T000000Z
LOCATION:Glass & Vine - Peacock park
ORGANIZER;CN=Anita Maksymchuk - The USA / Etats-Unis d'Amérique - Miami:MAILTO:anita.maksymchuk@essec.edu
SUMMARY:ESSEC Alumni Fall Get Together
DESCRIPTION:Join us for a fall gathering with the ESSEC community in Miami! Before the winter holidays kick off, come reconnect with fellow alumni and bring your loved ones along—family and friends are welcome!📅 ...
URL:https://www.essecalumni.com/fr/group/the-usa-etats-unis-d-amerique-miami/345/calendar/essec-alumni-fall-get-together/2024/11/17/6744
BEGIN:VALARM
TRIGGER:-P0DT1H0M0S
ACTION:DISPLAY
END:VALARM
END:VEVENT
END:VCALENDAR