BEGIN:VCALENDAR
VERSION:2.0
PRODID:-//hacksw/handcal//NONSGML v1.0//EN
BEGIN:VEVENT
DTSTART:20241129T071500Z
DTEND:20241129T083000Z
LOCATION:Tour Wood UP \n3, Boulevard du Général d'Armée Jean Simon \n75013 PARIS
ORGANIZER;CN=Céline Lévêque - Immobilier, Villes et Territoires (Real Estate, Cities and Territories):MAILTO:celine.leveque@essec.edu
SUMMARY:[COMPLET] Visite de la Tour Wood Up
DESCRIPTION:Le Club ESSEC Immobilier, Villes et Territoires vous propose de découvrir un projet exceptionnel en partenariat avec REI Habitat : Wood Up, une tour novatrice en bois, récemment livrée dans le 13ᵉ...
URL:https://www.essecalumni.com/fr/group/immobilier-villes-et-territoires-real-estate-cities-and-territories/63/calendar/-complet-visite-de-la-tour-wood-up/2024/11/29/6779
BEGIN:VALARM
TRIGGER:-P0DT1H0M0S
ACTION:DISPLAY
END:VALARM
END:VEVENT
END:VCALENDAR