BEGIN:VCALENDAR
VERSION:2.0
PRODID:-//hacksw/handcal//NONSGML v1.0//EN
BEGIN:VEVENT
DTSTART:20250213T103000Z
DTEND:20250213T130000Z
LOCATION:ILLUME Hotel (Ground Floor)  \n100, DunHua North Road \n105
ORGANIZER;CN=Matthieu Colet - Taiwan:MAILTO:matthieu.colet@essec.edu
SUMMARY:ESSEC and HEC Alumni Dinner with Nicolas Clement Founder of Nego Asia
DESCRIPTION:Dear ESSEC Alumni,\nWe are pleased to invite you to join our next joint ESSEC and HEC Alumni dinner.Date: Thursday, February 13, 2025, From 6:30PM to 9PM\nVenue: ILLUME hotel ground floor, No. 100,...
URL:https://www.essecalumni.com/fr/group/taiwan/271/calendar/essec-and-hec-alumni-dinner-with-nicolas-clement-founder-of-nego-asia/2025/02/13/6960
BEGIN:VALARM
TRIGGER:-P0DT1H0M0S
ACTION:DISPLAY
END:VALARM
END:VEVENT
END:VCALENDAR