BEGIN:VCALENDAR
VERSION:2.0
PRODID:-//hacksw/handcal//NONSGML v1.0//EN
BEGIN:VEVENT
DTSTART:20250318T180000Z
DTEND:20250320T123000Z
LOCATION:Maison des ESSEC  \n11, Avenue de Friedland \n75008 PARIS
ORGANIZER;CN=Sounya Kiniffo:MAILTO:sounya.kiniffo@essec.edu
SUMMARY:Inédit - Semaine de la parité ESSEC Alumni
DESCRIPTION:Depuis plusieurs années, la communauté ESSEC Alumni se mobilise pour la parité femmes-hommes : ateliers carrière dédiés, programme de mentorat EWA Boost', signature de la Charte mixité de Grandes...
URL:https://www.essecalumni.com/fr/event/inedit-semaine-de-la-parite-essec-alumni/2025/03/18/6973
BEGIN:VALARM
TRIGGER:-P0DT1H0M0S
ACTION:DISPLAY
END:VALARM
END:VEVENT
END:VCALENDAR