BEGIN:VCALENDAR
VERSION:2.0
PRODID:-//hacksw/handcal//NONSGML v1.0//EN
BEGIN:VEVENT
DTSTART:20250218T180000Z
DTEND:20250218T210000Z
LOCATION:Maison des ESSEC \n11, Avenue de Friedland \n75008 PARIS
ORGANIZER;CN=Matthieu Colet - China in France 中国俱乐部:MAILTO:matthieu.colet@essec.edu
SUMMARY:[COMPLET] 2025年元宵晚会 Fête des Lanternes 2025
DESCRIPTION:ESSEC校友会中国俱乐部Club China in France ESSEC在校生社团 ESSEC Chine\n联手诚邀你参加： 2025年元宵晚会时间：2月18日 （周二）晚上 19：00\n 地点：Maison des ESSEC11, Avenue de Friedland 75008 PARIS 日程 :19h00 - 20h00 : 开幕致辞，节目表演，舞狮20h00-21h30 :...
URL:https://www.essecalumni.com/fr/group/china-in-france/264/calendar/-complet-2025-fete-des-lanternes-2025/2025/02/18/7004
BEGIN:VALARM
TRIGGER:-P0DT1H0M0S
ACTION:DISPLAY
END:VALARM
END:VEVENT
END:VCALENDAR