BEGIN:VCALENDAR
VERSION:2.0
PRODID:-//hacksw/handcal//NONSGML v1.0//EN
BEGIN:VEVENT
DTSTART:20250313T173000Z
DTEND:20250313T210000Z
LOCATION:Maison des ESSEC \n11, Avenue de Friedland \n75008 PARIS
ORGANIZER;CN=Anita Maksymchuk - Africa in France:MAILTO:anita.maksymchuk@essec.edu
SUMMARY:S'installer en Afrique : Mythes ou Réalités ? Parlons-en sans filtre !
DESCRIPTION:Le Club ESSEC Alumni Africa in France vous invite à participer au Forum Débats du Jeudi 13 mars 2025 de 18h30 à 22h00 intitulé : "S'installer en Afrique : Mythes ou Réalités ? Parlons-en sans filtre...
URL:https://www.essecalumni.com/fr/group/africa-in-france/329/calendar/s-installer-en-afrique-mythes-ou-realites-parlons-en-sans-filtre/2025/03/13/7086
BEGIN:VALARM
TRIGGER:-P0DT1H0M0S
ACTION:DISPLAY
END:VALARM
END:VEVENT
END:VCALENDAR