BEGIN:VCALENDAR
VERSION:2.0
PRODID:-//hacksw/handcal//NONSGML v1.0//EN
BEGIN:VEVENT
DTSTART:20250321T060000Z
DTEND:20250321T080000Z
LOCATION:Silo Bar \n11, Jamison Street \n2000 SYDNEY
ORGANIZER;CN=Matthieu Colet - Australia / Australie - New Zealand / Nouvelle Zélande:MAILTO:matthieu.colet@essec.edu
SUMMARY:Inter-Ecoles Get Together in Sydney
DESCRIPTION:Dear alumni,Our next ESSEC get together in Sydney will be in partnership with other business schools again Date: Friday 21st March Time: from 5pm Location: Silo bar\nPlease register through the link...
URL:https://www.essecalumni.com/fr/group/australia-australie-new-zealand-nouvelle-zelande/138/calendar/inter-ecoles-get-together-in-sydney/2025/03/21/7159
BEGIN:VALARM
TRIGGER:-P0DT1H0M0S
ACTION:DISPLAY
END:VALARM
END:VEVENT
END:VCALENDAR